BEGIN:VCALENDAR
VERSION:2.0
PRODID:-//The Preserve at Turnbull Bay - ECPv6.15.20//NONSGML v1.0//EN
CALSCALE:GREGORIAN
METHOD:PUBLISH
X-ORIGINAL-URL:https://www.thepreserveatturnbull.com
X-WR-CALDESC:Events for The Preserve at Turnbull Bay
REFRESH-INTERVAL;VALUE=DURATION:PT1H
X-Robots-Tag:noindex
X-PUBLISHED-TTL:PT1H
BEGIN:VTIMEZONE
TZID:America/New_York
BEGIN:DAYLIGHT
TZOFFSETFROM:-0500
TZOFFSETTO:-0400
TZNAME:EDT
DTSTART:20170312T070000
END:DAYLIGHT
BEGIN:STANDARD
TZOFFSETFROM:-0400
TZOFFSETTO:-0500
TZNAME:EST
DTSTART:20171105T060000
END:STANDARD
BEGIN:DAYLIGHT
TZOFFSETFROM:-0500
TZOFFSETTO:-0400
TZNAME:EDT
DTSTART:20180311T070000
END:DAYLIGHT
BEGIN:STANDARD
TZOFFSETFROM:-0400
TZOFFSETTO:-0500
TZNAME:EST
DTSTART:20181104T060000
END:STANDARD
BEGIN:DAYLIGHT
TZOFFSETFROM:-0500
TZOFFSETTO:-0400
TZNAME:EDT
DTSTART:20190310T070000
END:DAYLIGHT
BEGIN:STANDARD
TZOFFSETFROM:-0400
TZOFFSETTO:-0500
TZNAME:EST
DTSTART:20191103T060000
END:STANDARD
END:VTIMEZONE
BEGIN:VEVENT
DTSTART;TZID=America/New_York:20180929T100000
DTEND;TZID=America/New_York:20180929T140000
DTSTAMP:20260422T230959
CREATED:20180731T151747Z
LAST-MODIFIED:20180731T151747Z
UID:10005033-1538215200-1538229600@www.thepreserveatturnbull.com
SUMMARY:Callaway Club Fitting
DESCRIPTION:Callaway Club Fitting Day \nSaturday\, Sept 29th\n10am – 2pm\nThis is the best way to get a new set of clubs or just even one. Looking for anything from a new driver to a set of irons or a new wedge. \nGet the right club for you by finding out your swing speed\, ball speed and get fitted by a professional club fitter from Callaway. \nAny Purchases for a new set of clubs or a single club during the club fitting will get you a 10% discount. \nBy Appointment Only. Sign up in the Pro Shop today. Limited Spots Available. \n\nIt’s Time for the NEW ROGUE DRIVER to be in your bag! \n\n← Back Thank you for your response. ✨\n\n\n					\n						\n							\n							\n						\n						\n						\n						\n						\n							\n								\n									\n										\n										\n									\n									\n										\n										\n									\n								\n							\n						\n						\n							\n								\n									\n									\n										\n									\n									\n									\n								\n							\n						\n					\n				\n\n\n\nName(required)\n\n \n			\n				\n					\n						\n						\n						\n					\n				\n				\n			 \n	\n\n\nEmail(required)\n\n \n			\n				\n					\n						\n						\n						\n					\n				\n				\n			 \n	\n\n\nWhat Time would you like. 20 min increments. Between 10am - 2 pm. (required)\n\n \n			\n				\n					\n						\n						\n						\n					\n				\n				\n			\n	\n	\n\n				\n					\n				\n						Submit		\n		\n		\n	 \nΔ \n\nShare this:Post\n				Share on Threads (Opens in new window)\n				Threads\n			\n				Email a link to a friend (Opens in new window)\n				Email\n			Share on Tumblr\n				Share on Nextdoor (Opens in new window)\n				Nextdoor\n			\n				Print (Opens in new window)\n				Print\n			\n				Share on Reddit (Opens in new window)\n				Reddit\n			Like this:Like Loading...
URL:https://www.thepreserveatturnbull.com/event/callaway-club-fitting/
LOCATION:The Preserve at Turnbull Bay\, 2600 Turnbull Estates Drive\, New Smyrna Beach\,\, FL\, 32168\, United States
CATEGORIES:Golf Equipment Fitting Days
ATTACH;FMTTYPE=image/jpeg:https://www.thepreserveatturnbull.com/wp-content/uploads/2018/03/760x300-Rogue-Driver.jpg
ORGANIZER;CN="Christopher Wrobel - The Preserve GM":MAILTO:chris@ThePreserveatTurnbull.com
GEO:29.0580957;-80.9711058
X-APPLE-STRUCTURED-LOCATION;VALUE=URI;X-ADDRESS=The Preserve at Turnbull Bay 2600 Turnbull Estates Drive New Smyrna Beach FL 32168 United States;X-APPLE-RADIUS=500;X-TITLE=2600 Turnbull Estates Drive:geo:-80.9711058,29.0580957
END:VEVENT
END:VCALENDAR